BEGIN:VCALENDAR
VERSION:2.0
PRODID:spatie/icalendar-generator
BEGIN:VTIMEZONE
TZID:UTC
BEGIN:STANDARD
DTSTART:20250728T150219
TZOFFSETFROM:+0000
TZOFFSETTO:+0000
END:STANDARD
END:VTIMEZONE
BEGIN:VEVENT
UID:69eb85fba24ca
DTSTAMP:20260424T150219Z
SUMMARY:Salon der Ratlosigkeit
DTSTART:20260506T160000Z
DTEND:20260506T180000Z
END:VEVENT
END:VCALENDAR