BEGIN:VCALENDAR
VERSION:2.0
PRODID:spatie/icalendar-generator
BEGIN:VTIMEZONE
TZID:UTC
BEGIN:STANDARD
DTSTART:20250728T150112
TZOFFSETFROM:+0000
TZOFFSETTO:+0000
END:STANDARD
END:VTIMEZONE
BEGIN:VEVENT
UID:69eb85b87c4d6
DTSTAMP:20260424T150112Z
SUMMARY:Last Park Standing
DTSTART:20260626T180000Z
DTEND:20260626T180000Z
END:VEVENT
END:VCALENDAR