BEGIN:VCALENDAR
VERSION:2.0
PRODID:spatie/icalendar-generator
BEGIN:VTIMEZONE
TZID:UTC
BEGIN:STANDARD
DTSTART:20250727T114648
TZOFFSETFROM:+0000
TZOFFSETTO:+0000
END:STANDARD
END:VTIMEZONE
BEGIN:VEVENT
UID:69ea06a878de7
DTSTAMP:20260423T114648Z
SUMMARY:Offene Sternwarte mit Führungen
DTSTART:20260628T090000Z
DTEND:20260628T090000Z
END:VEVENT
END:VCALENDAR