BEGIN:VCALENDAR
VERSION:2.0
PRODID:spatie/icalendar-generator
BEGIN:VTIMEZONE
TZID:UTC
BEGIN:STANDARD
DTSTART:20250727T114831
TZOFFSETFROM:+0000
TZOFFSETTO:+0000
END:STANDARD
END:VTIMEZONE
BEGIN:VEVENT
UID:69ea070f48784
DTSTAMP:20260423T114831Z
SUMMARY:Weedpecker - Heavy Psychedelic Doom Stoner Rock
DTSTART:20260712T170000Z
DTEND:20260712T170000Z
END:VEVENT
END:VCALENDAR