BEGIN:VCALENDAR
VERSION:2.0
PRODID:spatie/icalendar-generator
BEGIN:VTIMEZONE
TZID:UTC
BEGIN:STANDARD
DTSTART:20250727T114648
TZOFFSETFROM:+0000
TZOFFSETTO:+0000
END:STANDARD
END:VTIMEZONE
BEGIN:VEVENT
UID:69ea06a8779d9
DTSTAMP:20260423T114648Z
SUMMARY:Spider Murphy Gang - 50 Jahre Rock 'n' Roll
DTSTART:20271003T180000Z
DTEND:20271003T180000Z
END:VEVENT
END:VCALENDAR