BEGIN:VCALENDAR
VERSION:2.0
PRODID:spatie/icalendar-generator
BEGIN:VTIMEZONE
TZID:UTC
BEGIN:STANDARD
DTSTART:20250727T114648
TZOFFSETFROM:+0000
TZOFFSETTO:+0000
END:STANDARD
END:VTIMEZONE
BEGIN:VEVENT
UID:69ea06a8f3866
DTSTAMP:20260423T114648Z
SUMMARY:Samantha Fish - Paper Doll Live 2026 - Open Air
DTSTART:20260630T180000Z
DTEND:20260630T180000Z
END:VEVENT
END:VCALENDAR