BEGIN:VCALENDAR
VERSION:2.0
PRODID:spatie/icalendar-generator
BEGIN:VTIMEZONE
TZID:UTC
BEGIN:STANDARD
DTSTART:20250728T033742
TZOFFSETFROM:+0000
TZOFFSETTO:+0000
END:STANDARD
END:VTIMEZONE
BEGIN:VEVENT
UID:69eae586b1b98
DTSTAMP:20260424T033742Z
SUMMARY:Alice Hoffmann - Torschlusspanik
DTSTART:20260920T150000Z
DTEND:20260920T150000Z
END:VEVENT
END:VCALENDAR