BEGIN:VCALENDAR
VERSION:2.0
PRODID:spatie/icalendar-generator
BEGIN:VTIMEZONE
TZID:UTC
BEGIN:STANDARD
DTSTART:20250727T075833
TZOFFSETFROM:+0000
TZOFFSETTO:+0000
END:STANDARD
END:VTIMEZONE
BEGIN:VEVENT
UID:69e9d129029c6
DTSTAMP:20260423T075833Z
SUMMARY:Vicky Voyage - Vickys Shitshow - zwischen Porzellan und Rampenlicht
DTSTART:20261016T180000Z
DTEND:20261016T180000Z
END:VEVENT
END:VCALENDAR