BEGIN:VCALENDAR
VERSION:2.0
PRODID:spatie/icalendar-generator
BEGIN:VTIMEZONE
TZID:UTC
BEGIN:STANDARD
DTSTART:20250727T114649
TZOFFSETFROM:+0000
TZOFFSETTO:+0000
END:STANDARD
END:VTIMEZONE
BEGIN:VEVENT
UID:69ea06a972146
DTSTAMP:20260423T114649Z
SUMMARY:Chanson
DTSTART:20270409T173000Z
DTEND:20270409T173000Z
END:VEVENT
END:VCALENDAR