BEGIN:VCALENDAR
VERSION:2.0
PRODID:spatie/icalendar-generator
BEGIN:VTIMEZONE
TZID:UTC
BEGIN:STANDARD
DTSTART:20250727T114732
TZOFFSETFROM:+0000
TZOFFSETTO:+0000
END:STANDARD
END:VTIMEZONE
BEGIN:VEVENT
UID:69ea06d4bfe9f
DTSTAMP:20260423T114732Z
SUMMARY:Magie der Travestie - Die Nacht der Ikonen
DTSTART:20270115T190000Z
DTEND:20270115T190000Z
END:VEVENT
END:VCALENDAR