BEGIN:VCALENDAR
VERSION:2.0
PRODID:spatie/icalendar-generator
BEGIN:VTIMEZONE
TZID:UTC
BEGIN:STANDARD
DTSTART:20250727T114830
TZOFFSETFROM:+0000
TZOFFSETTO:+0000
END:STANDARD
END:VTIMEZONE
BEGIN:VEVENT
UID:69ea070eefc33
DTSTAMP:20260423T114830Z
SUMMARY:3. Aufführung Unitheater: Fa(u)st Forward
DTSTART:20260522T170000Z
DTEND:20260522T170000Z
END:VEVENT
END:VCALENDAR