BEGIN:VCALENDAR
VERSION:2.0
PRODID:spatie/icalendar-generator
BEGIN:VTIMEZONE
TZID:UTC
BEGIN:STANDARD
DTSTART:20250727T114754
TZOFFSETFROM:+0000
TZOFFSETTO:+0000
END:STANDARD
END:VTIMEZONE
BEGIN:VEVENT
UID:69ea06eaa14ac
DTSTAMP:20260423T114754Z
SUMMARY:Aufführung Unitheater Premiere: Fa(u)st Forward
DTSTART:20260520T163000Z
DTEND:20260520T163000Z
END:VEVENT
END:VCALENDAR