BEGIN:VCALENDAR
VERSION:2.0
PRODID:spatie/icalendar-generator
BEGIN:VTIMEZONE
TZID:UTC
BEGIN:STANDARD
DTSTART:20250727T114732
TZOFFSETFROM:+0000
TZOFFSETTO:+0000
END:STANDARD
END:VTIMEZONE
BEGIN:VEVENT
UID:69ea06d4bfb21
DTSTAMP:20260423T114732Z
SUMMARY:FLICK KNIVES (K) / THEE TWANGJACKETS (MA) punk & garageabilly
DTSTART:20260513T180000Z
DTEND:20260513T180000Z
END:VEVENT
END:VCALENDAR