BEGIN:VCALENDAR
VERSION:2.0
PRODID:spatie/icalendar-generator
BEGIN:VTIMEZONE
TZID:UTC
BEGIN:STANDARD
DTSTART:20250727T114733
TZOFFSETFROM:+0000
TZOFFSETTO:+0000
END:STANDARD
END:VTIMEZONE
BEGIN:VEVENT
UID:69ea06d5b65e2
DTSTAMP:20260423T114733Z
SUMMARY:Gartenflohmarkt Centro Verde
DTSTART:20260510T090000Z
DTEND:20260510T120000Z
END:VEVENT
END:VCALENDAR