BEGIN:VCALENDAR
VERSION:2.0
PRODID:spatie/icalendar-generator
BEGIN:VTIMEZONE
TZID:UTC
BEGIN:STANDARD
DTSTART:20250727T114755
TZOFFSETFROM:+0000
TZOFFSETTO:+0000
END:STANDARD
END:VTIMEZONE
BEGIN:VEVENT
UID:69ea06eb7a660
DTSTAMP:20260423T114755Z
SUMMARY:THE MONO KIDS (NL) - Garage Punk // Shake it Wild DJ Aftershow
DTSTART:20260509T180000Z
DTEND:20260509T180000Z
END:VEVENT
END:VCALENDAR