BEGIN:VCALENDAR
VERSION:2.0
PRODID:spatie/icalendar-generator
BEGIN:VTIMEZONE
TZID:UTC
BEGIN:STANDARD
DTSTART:20250727T114733
TZOFFSETFROM:+0000
TZOFFSETTO:+0000
END:STANDARD
END:VTIMEZONE
BEGIN:VEVENT
UID:69ea06d5471fc
DTSTAMP:20260423T114733Z
SUMMARY:Alles auf Rausch! - Deutsch- & Elektropunk zum Tag der Befreiung
DTSTART:20260508T180000Z
DTEND:20260508T180000Z
END:VEVENT
END:VCALENDAR