BEGIN:VCALENDAR
VERSION:2.0
PRODID:spatie/icalendar-generator
BEGIN:VTIMEZONE
TZID:UTC
BEGIN:STANDARD
DTSTART:20250727T130948
TZOFFSETFROM:+0000
TZOFFSETTO:+0000
END:STANDARD
END:VTIMEZONE
BEGIN:VEVENT
UID:69ea1a1c53681
DTSTAMP:20260423T130948Z
SUMMARY:Jazz Barpiano mit Francis Merz
DTSTART:20260425T180000Z
DTEND:20260425T180000Z
END:VEVENT
END:VCALENDAR