BEGIN:VCALENDAR
VERSION:2.0
PRODID:spatie/icalendar-generator
BEGIN:VTIMEZONE
TZID:UTC
BEGIN:STANDARD
DTSTART:20250727T040653
TZOFFSETFROM:+0000
TZOFFSETTO:+0000
END:STANDARD
END:VTIMEZONE
BEGIN:VEVENT
UID:69e99add7e4da
DTSTAMP:20260423T040653Z
SUMMARY:Vorspiel der Blockflötenklasse Meike Theis
DTSTART:20260424T143000Z
DTEND:20260424T160000Z
END:VEVENT
END:VCALENDAR