BEGIN:VCALENDAR
VERSION:2.0
PRODID:spatie/icalendar-generator
BEGIN:VTIMEZONE
TZID:UTC
BEGIN:STANDARD
DTSTART:20250727T112108
TZOFFSETFROM:+0000
TZOFFSETTO:+0000
END:STANDARD
END:VTIMEZONE
BEGIN:VEVENT
UID:69ea00a4667f6
DTSTAMP:20260423T112108Z
SUMMARY:UNTERstadt wird OBERfit - Aktionstage in der Unterstadt
DTSTART:20260618T100000Z
DTEND:20260620T150000Z
END:VEVENT
END:VCALENDAR