BEGIN:VCALENDAR
VERSION:2.0
PRODID:spatie/icalendar-generator
BEGIN:VTIMEZONE
TZID:UTC
BEGIN:STANDARD
DTSTART:20250726T122806
TZOFFSETFROM:+0000
TZOFFSETTO:+0000
END:STANDARD
END:VTIMEZONE
BEGIN:VEVENT
UID:69e8bed6f197e
DTSTAMP:20260422T122806Z
SUMMARY:Literatur trifft Leinwand – ein kreativer Mitmachabend für Alle
DTSTART:20260807T153000Z
DTEND:20260807T153000Z
END:VEVENT
END:VCALENDAR