BEGIN:VCALENDAR
VERSION:2.0
PRODID:spatie/icalendar-generator
BEGIN:VTIMEZONE
TZID:UTC
BEGIN:STANDARD
DTSTART:20250726T122801
TZOFFSETFROM:+0000
TZOFFSETTO:+0000
END:STANDARD
END:VTIMEZONE
BEGIN:VEVENT
UID:69e8bed1c5458
DTSTAMP:20260422T122801Z
SUMMARY:Live at Fermac's: Alternative Ways | Support: About to Break
DTSTART:20260515T190000Z
DTEND:20260515T190000Z
END:VEVENT
END:VCALENDAR