BEGIN:VCALENDAR
VERSION:2.0
PRODID:spatie/icalendar-generator
BEGIN:VTIMEZONE
TZID:UTC
BEGIN:STANDARD
DTSTART:20250726T122803
TZOFFSETFROM:+0000
TZOFFSETTO:+0000
END:STANDARD
END:VTIMEZONE
BEGIN:VEVENT
UID:69e8bed317015
DTSTAMP:20260422T122803Z
SUMMARY:Live at Fermac's: Secret Corner
DTSTART:20260501T190000Z
DTEND:20260501T190000Z
END:VEVENT
END:VCALENDAR