BEGIN:VCALENDAR
VERSION:2.0
PRODID:spatie/icalendar-generator
BEGIN:VTIMEZONE
TZID:UTC
BEGIN:STANDARD
DTSTART:20250724T175032
TZOFFSETFROM:+0000
TZOFFSETTO:+0000
END:STANDARD
END:VTIMEZONE
BEGIN:VEVENT
UID:69e66768c8b5e
DTSTAMP:20260420T175032Z
SUMMARY:Café Colibri - Deutsch sprechen in der Zentralbibliothek 
DTSTART:20260618T150000Z
DTEND:20260618T150000Z
END:VEVENT
END:VCALENDAR