BEGIN:VCALENDAR
VERSION:2.0
PRODID:spatie/icalendar-generator
BEGIN:VTIMEZONE
TZID:UTC
BEGIN:STANDARD
DTSTART:20250724T121515
TZOFFSETFROM:+0000
TZOFFSETTO:+0000
END:STANDARD
END:VTIMEZONE
BEGIN:VEVENT
UID:69e618d3b9a1a
DTSTAMP:20260420T121515Z
SUMMARY:Emil und die Detektive (7+)
DTSTART:20260507T090000Z
DTEND:20260507T090000Z
END:VEVENT
END:VCALENDAR