BEGIN:VCALENDAR
VERSION:2.0
PRODID:spatie/icalendar-generator
BEGIN:VTIMEZONE
TZID:UTC
BEGIN:STANDARD
DTSTART:20250724T092503
TZOFFSETFROM:+0000
TZOFFSETTO:+0000
END:STANDARD
END:VTIMEZONE
BEGIN:VEVENT
UID:69e5f0eff4030
DTSTAMP:20260420T092503Z
SUMMARY:Emil und die Detektive (7+)
DTSTART:20260505T090000Z
DTEND:20260505T090000Z
END:VEVENT
END:VCALENDAR