BEGIN:VCALENDAR
VERSION:2.0
PRODID:spatie/icalendar-generator
BEGIN:VTIMEZONE
TZID:UTC
BEGIN:STANDARD
DTSTART:20250724T160013
TZOFFSETFROM:+0000
TZOFFSETTO:+0000
END:STANDARD
END:VTIMEZONE
BEGIN:VEVENT
UID:69e64d8d8ebf0
DTSTAMP:20260420T160013Z
SUMMARY:Führung durch „Verstrickt. Kolonialismus und Mannheim“
DTSTART:20260923T140000Z
DTEND:20260923T150000Z
END:VEVENT
END:VCALENDAR