BEGIN:VCALENDAR
VERSION:2.0
PRODID:spatie/icalendar-generator
BEGIN:VTIMEZONE
TZID:UTC
BEGIN:STANDARD
DTSTART:20250724T155916
TZOFFSETFROM:+0000
TZOFFSETTO:+0000
END:STANDARD
END:VTIMEZONE
BEGIN:VEVENT
UID:69e64d549d223
DTSTAMP:20260420T155916Z
SUMMARY:Führung durch „Verstrickt. Kolonialismus und Mannheim“
DTSTART:20260826T140000Z
DTEND:20260826T150000Z
END:VEVENT
END:VCALENDAR