BEGIN:VCALENDAR
VERSION:2.0
PRODID:spatie/icalendar-generator
BEGIN:VTIMEZONE
TZID:UTC
BEGIN:STANDARD
DTSTART:20250724T160020
TZOFFSETFROM:+0000
TZOFFSETTO:+0000
END:STANDARD
END:VTIMEZONE
BEGIN:VEVENT
UID:69e64d94d92bb
DTSTAMP:20260420T160020Z
SUMMARY:Führung durch „Verstrickt. Kolonialismus und Mannheim“
DTSTART:20260722T140000Z
DTEND:20260722T150000Z
END:VEVENT
END:VCALENDAR