BEGIN:VCALENDAR
VERSION:2.0
PRODID:spatie/icalendar-generator
BEGIN:VTIMEZONE
TZID:UTC
BEGIN:STANDARD
DTSTART:20250724T160045
TZOFFSETFROM:+0000
TZOFFSETTO:+0000
END:STANDARD
END:VTIMEZONE
BEGIN:VEVENT
UID:69e64dad1fd69
DTSTAMP:20260420T160045Z
SUMMARY:Führung durch „Verstrickt. Kolonialismus und Mannheim“
DTSTART:20260527T140000Z
DTEND:20260527T150000Z
END:VEVENT
END:VCALENDAR