BEGIN:VCALENDAR
VERSION:2.0
PRODID:spatie/icalendar-generator
BEGIN:VTIMEZONE
TZID:UTC
BEGIN:STANDARD
DTSTART:20250724T160020
TZOFFSETFROM:+0000
TZOFFSETTO:+0000
END:STANDARD
END:VTIMEZONE
BEGIN:VEVENT
UID:69e64d94394de
DTSTAMP:20260420T160020Z
SUMMARY:5. Abo-Konzert Mannheim
DTSTART:20270516T160000Z
DTEND:20270516T160000Z
END:VEVENT
END:VCALENDAR