BEGIN:VCALENDAR
VERSION:2.0
PRODID:spatie/icalendar-generator
BEGIN:VTIMEZONE
TZID:UTC
BEGIN:STANDARD
DTSTART:20250724T124249
TZOFFSETFROM:+0000
TZOFFSETTO:+0000
END:STANDARD
END:VTIMEZONE
BEGIN:VEVENT
UID:69e61f4911b45
DTSTAMP:20260420T124249Z
SUMMARY:Bald fahr ich am Rhein/StadtSafari - Segway-Erlebnis
DTSTART:20260709T130000Z
DTEND:20260709T150000Z
END:VEVENT
END:VCALENDAR