BEGIN:VCALENDAR
VERSION:2.0
PRODID:spatie/icalendar-generator
BEGIN:VTIMEZONE
TZID:UTC
BEGIN:STANDARD
DTSTART:20250725T204919
TZOFFSETFROM:+0000
TZOFFSETTO:+0000
END:STANDARD
END:VTIMEZONE
BEGIN:VEVENT
UID:69e7e2cf7ff78
DTSTAMP:20260421T204919Z
SUMMARY:Bald fahr ich am Rhein/StadtSafari - Segway-Erlebnis
DTSTART:20260516T130000Z
DTEND:20260516T150000Z
END:VEVENT
END:VCALENDAR