BEGIN:VCALENDAR
VERSION:2.0
PRODID:spatie/icalendar-generator
BEGIN:VTIMEZONE
TZID:UTC
BEGIN:STANDARD
DTSTART:20250724T073944
TZOFFSETFROM:+0000
TZOFFSETTO:+0000
END:STANDARD
END:VTIMEZONE
BEGIN:VEVENT
UID:69e5d840751c4
DTSTAMP:20260420T073944Z
SUMMARY:Bald fahr ich am Rhein/StadtSafari - Segway-Erlebnis
DTSTART:20260504T130000Z
DTEND:20260504T150000Z
END:VEVENT
END:VCALENDAR