BEGIN:VCALENDAR
VERSION:2.0
PRODID:spatie/icalendar-generator
BEGIN:VTIMEZONE
TZID:UTC
BEGIN:STANDARD
DTSTART:20250724T052111
TZOFFSETFROM:+0000
TZOFFSETTO:+0000
END:STANDARD
END:VTIMEZONE
BEGIN:VEVENT
UID:69e5b7c751c30
DTSTAMP:20260420T052111Z
SUMMARY:Bald fahr ich am Rhein/StadtSafari - Segway-Erlebnis
DTSTART:20260421T130000Z
DTEND:20260421T150000Z
END:VEVENT
END:VCALENDAR