BEGIN:VCALENDAR
VERSION:2.0
PRODID:spatie/icalendar-generator
BEGIN:VTIMEZONE
TZID:UTC
BEGIN:STANDARD
DTSTART:20250726T113755
TZOFFSETFROM:+0000
TZOFFSETTO:+0000
END:STANDARD
END:VTIMEZONE
BEGIN:VEVENT
UID:69e8b313e355d
DTSTAMP:20260422T113755Z
SUMMARY:Kreuz und quer durchs Häusermeer - Stadt Safari - Segway-Erlebnis
DTSTART:20260723T103000Z
DTEND:20260723T123000Z
END:VEVENT
END:VCALENDAR