BEGIN:VCALENDAR
VERSION:2.0
PRODID:spatie/icalendar-generator
BEGIN:VTIMEZONE
TZID:UTC
BEGIN:STANDARD
DTSTART:20250726T190955
TZOFFSETFROM:+0000
TZOFFSETTO:+0000
END:STANDARD
END:VTIMEZONE
BEGIN:VEVENT
UID:69e91d038f852
DTSTAMP:20260422T190955Z
SUMMARY:Kreuz und quer durchs Häusermeer - Stadt Safari - Segway-Erlebnis
DTSTART:20260630T103000Z
DTEND:20260630T123000Z
END:VEVENT
END:VCALENDAR