BEGIN:VCALENDAR
VERSION:2.0
PRODID:spatie/icalendar-generator
BEGIN:VTIMEZONE
TZID:UTC
BEGIN:STANDARD
DTSTART:20250723T160603
TZOFFSETFROM:+0000
TZOFFSETTO:+0000
END:STANDARD
END:VTIMEZONE
BEGIN:VEVENT
UID:69e4fd6bc6885
DTSTAMP:20260419T160603Z
SUMMARY:Kreuz und quer durchs Häusermeer - Stadt Safari - Segway-Erlebnis
DTSTART:20260529T103000Z
DTEND:20260529T123000Z
END:VEVENT
END:VCALENDAR