BEGIN:VCALENDAR
VERSION:2.0
PRODID:spatie/icalendar-generator
BEGIN:VTIMEZONE
TZID:UTC
BEGIN:STANDARD
DTSTART:20250725T111016
TZOFFSETFROM:+0000
TZOFFSETTO:+0000
END:STANDARD
END:VTIMEZONE
BEGIN:VEVENT
UID:69e75b1834224
DTSTAMP:20260421T111016Z
SUMMARY:Live-Übertragung: Eröffnung der 79. Filmfestspiele Cannes
DTSTART:20260512T163000Z
DTEND:20260512T163000Z
END:VEVENT
END:VCALENDAR