BEGIN:VCALENDAR
VERSION:2.0
PRODID:spatie/icalendar-generator
BEGIN:VTIMEZONE
TZID:UTC
BEGIN:STANDARD
DTSTART:20250725T022043
TZOFFSETFROM:+0000
TZOFFSETTO:+0000
END:STANDARD
END:VTIMEZONE
BEGIN:VEVENT
UID:69e6defb74e86
DTSTAMP:20260421T022043Z
SUMMARY:OMIKI
DTSTART:20260509T203000Z
DTEND:20260510T030000Z
END:VEVENT
END:VCALENDAR