BEGIN:VCALENDAR
VERSION:2.0
PRODID:spatie/icalendar-generator
BEGIN:VTIMEZONE
TZID:UTC
BEGIN:STANDARD
DTSTART:20250725T003224
TZOFFSETFROM:+0000
TZOFFSETTO:+0000
END:STANDARD
END:VTIMEZONE
BEGIN:VEVENT
UID:69e6c59839d27
DTSTAMP:20260421T003224Z
SUMMARY:Tanz am Platz
DTSTART:20260509T080000Z
DTEND:20260509T090000Z
END:VEVENT
END:VCALENDAR