BEGIN:VCALENDAR
VERSION:2.0
PRODID:spatie/icalendar-generator
BEGIN:VTIMEZONE
TZID:UTC
BEGIN:STANDARD
DTSTART:20250724T121548
TZOFFSETFROM:+0000
TZOFFSETTO:+0000
END:STANDARD
END:VTIMEZONE
BEGIN:VEVENT
UID:69e618f4d8f3d
DTSTAMP:20260420T121548Z
SUMMARY:„Frisch\, knackig und kühl – Sommergenuss zum Mitmachen“ mit
  der Verbraucherzentrale
DTSTART:20260721T160000Z
DTEND:20260721T160000Z
END:VEVENT
END:VCALENDAR