BEGIN:VCALENDAR
VERSION:2.0
PRODID:spatie/icalendar-generator
BEGIN:VTIMEZONE
TZID:UTC
BEGIN:STANDARD
DTSTART:20250725T152510
TZOFFSETFROM:+0000
TZOFFSETTO:+0000
END:STANDARD
END:VTIMEZONE
BEGIN:VEVENT
UID:69e796d676c6b
DTSTAMP:20260421T152510Z
SUMMARY:Beasts and Bodies
DTSTART:20260612T180000Z
DTEND:20260612T180000Z
END:VEVENT
END:VCALENDAR