BEGIN:VCALENDAR
VERSION:2.0
PRODID:spatie/icalendar-generator
BEGIN:VTIMEZONE
TZID:UTC
BEGIN:STANDARD
DTSTART:20250724T005335
TZOFFSETFROM:+0000
TZOFFSETTO:+0000
END:STANDARD
END:VTIMEZONE
BEGIN:VEVENT
UID:69e5790fe6a11
DTSTAMP:20260420T005335Z
SUMMARY:Leonardo da Vinci – Erfindungen erleben
DTSTART:20270224T100000Z
DTEND:20270224T100000Z
END:VEVENT
END:VCALENDAR