BEGIN:VCALENDAR
VERSION:2.0
PRODID:spatie/icalendar-generator
BEGIN:VTIMEZONE
TZID:UTC
BEGIN:STANDARD
DTSTART:20250724T074018
TZOFFSETFROM:+0000
TZOFFSETTO:+0000
END:STANDARD
END:VTIMEZONE
BEGIN:VEVENT
UID:69e5d862b7d9d
DTSTAMP:20260420T074018Z
SUMMARY:Leonardo da Vinci – Erfindungen erleben
DTSTART:20270213T100000Z
DTEND:20270213T100000Z
END:VEVENT
END:VCALENDAR