BEGIN:VCALENDAR
VERSION:2.0
PRODID:spatie/icalendar-generator
BEGIN:VTIMEZONE
TZID:UTC
BEGIN:STANDARD
DTSTART:20250724T073943
TZOFFSETFROM:+0000
TZOFFSETTO:+0000
END:STANDARD
END:VTIMEZONE
BEGIN:VEVENT
UID:69e5d83f993dd
DTSTAMP:20260420T073943Z
SUMMARY:Leonardo da Vinci – Erfindungen erleben
DTSTART:20270211T100000Z
DTEND:20270211T100000Z
END:VEVENT
END:VCALENDAR