BEGIN:VCALENDAR
VERSION:2.0
PRODID:spatie/icalendar-generator
BEGIN:VTIMEZONE
TZID:UTC
BEGIN:STANDARD
DTSTART:20250724T113225
TZOFFSETFROM:+0000
TZOFFSETTO:+0000
END:STANDARD
END:VTIMEZONE
BEGIN:VEVENT
UID:69e60ec90e947
DTSTAMP:20260420T113225Z
SUMMARY:Leonardo da Vinci – Erfindungen erleben
DTSTART:20270205T100000Z
DTEND:20270205T100000Z
END:VEVENT
END:VCALENDAR