BEGIN:VCALENDAR
VERSION:2.0
PRODID:spatie/icalendar-generator
BEGIN:VTIMEZONE
TZID:UTC
BEGIN:STANDARD
DTSTART:20250724T131136
TZOFFSETFROM:+0000
TZOFFSETTO:+0000
END:STANDARD
END:VTIMEZONE
BEGIN:VEVENT
UID:69e626080f7da
DTSTAMP:20260420T131136Z
SUMMARY:Leonardo da Vinci – Erfindungen erleben
DTSTART:20270203T100000Z
DTEND:20270203T100000Z
END:VEVENT
END:VCALENDAR