BEGIN:VCALENDAR
VERSION:2.0
PRODID:spatie/icalendar-generator
BEGIN:VTIMEZONE
TZID:UTC
BEGIN:STANDARD
DTSTART:20250724T145708
TZOFFSETFROM:+0000
TZOFFSETTO:+0000
END:STANDARD
END:VTIMEZONE
BEGIN:VEVENT
UID:69e63ec438231
DTSTAMP:20260420T145708Z
SUMMARY:Leonardo da Vinci – Erfindungen erleben
DTSTART:20270130T100000Z
DTEND:20270130T100000Z
END:VEVENT
END:VCALENDAR