BEGIN:VCALENDAR
VERSION:2.0
PRODID:spatie/icalendar-generator
BEGIN:VTIMEZONE
TZID:UTC
BEGIN:STANDARD
DTSTART:20250725T095647
TZOFFSETFROM:+0000
TZOFFSETTO:+0000
END:STANDARD
END:VTIMEZONE
BEGIN:VEVENT
UID:69e749dfde19a
DTSTAMP:20260421T095647Z
SUMMARY:Leonardo da Vinci – Erfindungen erleben
DTSTART:20270114T100000Z
DTEND:20270114T100000Z
END:VEVENT
END:VCALENDAR