BEGIN:VCALENDAR
VERSION:2.0
PRODID:spatie/icalendar-generator
BEGIN:VTIMEZONE
TZID:UTC
BEGIN:STANDARD
DTSTART:20250723T150445
TZOFFSETFROM:+0000
TZOFFSETTO:+0000
END:STANDARD
END:VTIMEZONE
BEGIN:VEVENT
UID:69e4ef0d1e7f2
DTSTAMP:20260419T150445Z
SUMMARY:Leonardo da Vinci – Erfindungen erleben
DTSTART:20270107T100000Z
DTEND:20270107T100000Z
END:VEVENT
END:VCALENDAR